BEGIN:VCALENDAR
VERSION:2.0
PRODID:-//Savannahlander
CALSCALE:GREGORIAN
METHOD:PUBLISH
X-WR-CALNAME:Savannahlander
X-ORIGINAL-URL:https://savannahlander.com.au/product/outback-experience-with-chillagoe-cabins-3/
X-WR-CALDESC:Outback Experience with Chillagoe Cabins
BEGIN:VEVENT
DTSTART;TZID=Australia/Melbourne:20260708T073000
DTEND;TZID=Australia/Melbourne:20260711T183000
SUMMARY:Outback Experience with Chillagoe Cabins
DESCRIPTION:
URL:https://savannahlander.com.au/product/outback-experience-with-chillagoe-cabins-3/
LOCATION:
END:VEVENT
END:VCALENDAR
