BEGIN:VCALENDAR
VERSION:2.0
PRODID:-//Savannahlander
CALSCALE:GREGORIAN
METHOD:PUBLISH
X-WR-CALNAME:Savannahlander
X-ORIGINAL-URL:https://savannahlander.com.au/product/etheridge-rambler-9/
X-WR-CALDESC:Etheridge Rambler
BEGIN:VEVENT
DTSTART;TZID=Europe/London:20260528T120000
DTEND;TZID=Europe/London:20260529T140000
SUMMARY:Etheridge Rambler
DESCRIPTION:
URL:https://savannahlander.com.au/product/etheridge-rambler-9/
LOCATION:
END:VEVENT
END:VCALENDAR
